BEGIN:VCALENDAR
VERSION:2.0
PRODID:-//Diocese of Kansas City-St. Joseph - ECPv6.14.0//NONSGML v1.0//EN
CALSCALE:GREGORIAN
METHOD:PUBLISH
X-WR-CALNAME:Diocese of Kansas City-St. Joseph
X-ORIGINAL-URL:https://kcsjcatholic.org
X-WR-CALDESC:Events for Diocese of Kansas City-St. Joseph
REFRESH-INTERVAL;VALUE=DURATION:PT1H
X-Robots-Tag:noindex
X-PUBLISHED-TTL:PT1H
BEGIN:VTIMEZONE
TZID:America/Chicago
BEGIN:DAYLIGHT
TZOFFSETFROM:-0600
TZOFFSETTO:-0500
TZNAME:CDT
DTSTART:20220313T080000
END:DAYLIGHT
BEGIN:STANDARD
TZOFFSETFROM:-0500
TZOFFSETTO:-0600
TZNAME:CST
DTSTART:20221106T070000
END:STANDARD
END:VTIMEZONE
BEGIN:VEVENT
DTSTART;VALUE=DATE:20220618
DTEND;VALUE=DATE:20220620
DTSTAMP:20260422T192909
CREATED:20220511T110225Z
LAST-MODIFIED:20220523T184509Z
UID:1834-1655510400-1655683199@kcsjcatholic.org
SUMMARY:June 18 & 19: Feast of Corpus Christi Processions
DESCRIPTION:The Solemnity of the Most Holy Body and Blood of Christ will be observed with Mass\, procession and closing Benediction on Saturday\, June 18 and Sunday\, June 19. \nJune 18 Vigil of Corpus Christi Procession: All are welcome to attend 5 p.m. Mass with Bishop Johnston at the Cathedral of St. Joseph (519 N 10th Street\, St. Joseph\, MO) followed by a procession to the Immaculate Conception Pro-Life Shrine (501 S 10th Street\, St Joseph\, MO). \nJune 19 Corpus Christi Procession & Opening of the National Eucharistic Revival: All are welcome to attend 11 a.m. Mass with Bishop Johnston at Our Lady of Good Counsel Parish (3934 Washington Street\, Kansas City\, MO) followed by a procession to Guardian Angels Parish (1310 Westport Road\, Kansas City\, MO). \n\nLa Solemnidad del Cuerpo y la Sangre de Cristo se celebrará con una misa\, procesión y bendición con el Santísimo Sacramento el Sábado 18 y Domingo 19 de Junio. \n18 Junio Vigilia de la Solemnidad del Cuerpo y la Sangre de Cristo: Todos están bienvenidos a la Catedral de San Jose (519 N 10th Street\, St. Joseph\, MO) para la santa Misa con el Obispo Johnston a la 5 p.m. seguido de una procesión al Santuario Pro-Vida de la Inmaculada Concepción (501 S 10th Street\, St Joseph\, MO). \n19 Junio Solemnidad del Cuerpo y la Sangre de Cristo y comienzo del Avivamiento Eucarístico Nacional: Todos están bienvenidos a la parroquía de Nuestra Señora del Buen Consejo (3934 Washington Street\, Kansas City\, MO) para la santa Misa con el Obispo Johnston a la 11 a.m. seguido de una procesión al parroquía de Ángel Custodio (1310 Westport Road\, Kansas City\, MO). \n\nSAVE THE DATE\nSept. 10\, 2022: 4th Annual ‘In His Real Presence’ Eucharistic Congress @ St. James Parish\, Liberty \n\nEucharistic Congress Website\nRecordings of 2019\, 2020 & 2021 Eucharistic Congress talks\n\n\n\n\nBulletin Blurbs \n(Shorter version) Bishop Johnston will celebrate the Feast of Corpus Christi with Masses and Eucharistic processions in both St. Joseph and Kansas City this year. All are welcome to attend 5 pm Mass June 18 at the Cathedral of St. Joseph (519 N 10th Street\, St. Joseph\, MO) with procession to follow\, or an 11 am Mass June 19 at Our Lady of Good Counsel Parish (3934 Washington St.\, Kansas City\, MO) with following procession. This celebration will constitute the opening of the National Eucharistic Revival in our diocese. \n(Longer version) Bishop Johnston will celebrate the Solemnity of the Most Holy Body and Blood of Christ (Corpus Christi) with Masses and Eucharistic processions in St. Joseph and Kansas City June 18 and 19. All are welcome to join for a 5 pm Mass June 18 at the Cathedral of St. Joseph (519 N 10th Street\, St. Joseph\, MO) followed by a procession to the Immaculate Conception Pro-Life Shrine (501 S 10th Street\, St Joseph\, MO); or an 11 am Mass June 19 at Our Lady of Good Counsel Parish (3934 Washington Street\, Kansas City\, MO) with procession afterwards to Guardian Angels Parish (1310 Westport Road\, Kansas City\, MO). This celebration will constitute the opening of the National Eucharistic Revival in our diocese. \nSocial media graphics (click/tap to enlarge)
URL:https://kcsjcatholic.org/events/corpus-christi-procession/
ATTACH;FMTTYPE=image/jpeg:https://kcsjcatholic.org/wp-content/uploads/2021-Corpus-Christi-Procession-scaled.jpg
END:VEVENT
END:VCALENDAR