BEGIN:VCALENDAR
VERSION:2.0
PRODID:-//Diocese of Kansas City-St. Joseph - ECPv6.14.0//NONSGML v1.0//EN
CALSCALE:GREGORIAN
METHOD:PUBLISH
X-WR-CALNAME:Diocese of Kansas City-St. Joseph
X-ORIGINAL-URL:https://kcsjcatholic.org
X-WR-CALDESC:Events for Diocese of Kansas City-St. Joseph
REFRESH-INTERVAL;VALUE=DURATION:PT1H
X-Robots-Tag:noindex
X-PUBLISHED-TTL:PT1H
BEGIN:VTIMEZONE
TZID:America/New_York
BEGIN:DAYLIGHT
TZOFFSETFROM:-0500
TZOFFSETTO:-0400
TZNAME:EDT
DTSTART:20170312T070000
END:DAYLIGHT
BEGIN:STANDARD
TZOFFSETFROM:-0400
TZOFFSETTO:-0500
TZNAME:EST
DTSTART:20171105T060000
END:STANDARD
END:VTIMEZONE
BEGIN:VEVENT
DTSTART;TZID=America/New_York:20171007T000000
DTEND;TZID=America/New_York:20171007T000000
DTSTAMP:20260420T080349
CREATED:20170913T221706Z
LAST-MODIFIED:20171024T102622Z
UID:1453-1507334400-1507334400@kcsjcatholic.org
SUMMARY:Oct. 7: Vigilia de Oración de Kansas City en Solidaridad con Familias Inmigrantes y Refugiadas
DESCRIPTION:St. John Francis Regis Parish\n8941 James A. Reed Road\nKansas City\, MO \n4:30 p.m. Misa\n5:45 p.m. Vigilia (y el Santo Rosario)\n6:30 p.m. Recepción \n\nEstán cordialmente invitados el 7 de octubre a la gran vigilia de oración apoyando el movimiento DACA y nuestras familias. Éste evento es una colaboración con la Oficina del Ministerio Hispano del Diócesis de Kansas City – St. Joseph. \nEmpezando con la Santa Misa a las 4:30 PM en la iglesia de St. Regis\, seguido por el Santo Rosario en vivo en las afueras de la iglesia. Luego habrá una recepción al terminar el Santo Rosario. \nEvento de Facebook
URL:https://kcsjcatholic.org/events/vigilia-solidaridad-inmigrantes-y-refugiadas/
ATTACH;FMTTYPE=image/jpeg:https://kcsjcatholic.org/wp-content/uploads/21616017_10159197585700109_7524730232586327500_n.jpg
END:VEVENT
END:VCALENDAR